BEGIN:VCALENDAR
VERSION:2.0
PRODID:-//Feuerwehr Laberweinting - ECPv6.13.2.1//NONSGML v1.0//EN
CALSCALE:GREGORIAN
METHOD:PUBLISH
X-WR-CALNAME:Feuerwehr Laberweinting
X-ORIGINAL-URL:https://ff-laberweinting.de
X-WR-CALDESC:Veranstaltungen für Feuerwehr Laberweinting
REFRESH-INTERVAL;VALUE=DURATION:PT1H
X-Robots-Tag:noindex
X-PUBLISHED-TTL:PT1H
BEGIN:VTIMEZONE
TZID:UTC
BEGIN:STANDARD
TZOFFSETFROM:+0000
TZOFFSETTO:+0000
TZNAME:UTC
DTSTART:20240101T000000
END:STANDARD
END:VTIMEZONE
BEGIN:VEVENT
DTSTART;TZID=UTC:20241005T090000
DTEND;TZID=UTC:20241005T120000
DTSTAMP:20260421T002650
CREATED:20240220T101817Z
LAST-MODIFIED:20240220T102137Z
UID:1275-1728118800-1728129600@ff-laberweinting.de
SUMMARY:Übung Gruppe III: Hydranten einwintern
DESCRIPTION:
URL:https://ff-laberweinting.de/termin/uebung-gruppe-3-hydranten-einwintern/
LOCATION:Feuerwehrhaus\, Bachstraße 11\, Laberweinting
END:VEVENT
BEGIN:VEVENT
DTSTART;TZID=UTC:20241025T190000
DTEND;TZID=UTC:20241025T230000
DTSTAMP:20260421T002650
CREATED:20231222T033615Z
LAST-MODIFIED:20240921T101332Z
UID:1096-1729882800-1729897200@ff-laberweinting.de
SUMMARY:Versammlung des Kreisfeuerwehrverbandes
DESCRIPTION:Versammlung des Kreisfeuerwehrverbandes
URL:https://ff-laberweinting.de/termin/versammlung-des-kreisfeuerwehrverbandes/
LOCATION:Rain\, Rain
END:VEVENT
BEGIN:VEVENT
DTSTART;TZID=UTC:20241028T190000
DTEND;TZID=UTC:20241028T210000
DTSTAMP:20260421T002650
CREATED:20240220T092619Z
LAST-MODIFIED:20240220T092619Z
UID:1247-1730142000-1730149200@ff-laberweinting.de
SUMMARY:Übung Fachbereich Atemschutz - Taktische Einheit -
DESCRIPTION:Übung Fachbereich Atemschutz – Taktische Einheit –
URL:https://ff-laberweinting.de/termin/uebung-fachbereich-atemschutz-taktische-einheit/
LOCATION:Feuerwehrhaus\, Bachstraße 11\, Laberweinting
END:VEVENT
END:VCALENDAR